BEGIN:VCALENDAR
VERSION:2.0
PRODID:-//ChamberMaster//Event Calendar 2.0//EN
METHOD:PUBLISH
X-PUBLISHED-TTL:P3D
REFRESH-INTERVAL:P3D
CALSCALE:GREGORIAN
BEGIN:VEVENT
DTSTART:20200207T163000Z
DTEND:20200207T203000Z
X-MICROSOFT-CDO-ALLDAYEVENT:FALSE
SUMMARY:Blood Drive: Harmony Magnet Academy
DESCRIPTION:"Valley People Need Valley Blood." The Central California Blood Center is hosting a blood drive at Harmony Magnet Academy! They encourage all participants to drink plenty of water before donating. For more information\, visit their website at https://www.donateblood.org/.
X-ALT-DESC;FMTTYPE=text/html:<span id="docs-internal-guid-4906c5ce-7fff-8197-5360-a1ea09628913"><span style="font-size: 11pt\; font-family: Arial\; color: rgb(0\, 0\, 0)\; background-color: transparent\; font-variant-numeric: normal\; font-variant-east-asian: normal\; vertical-align: baseline\; white-space: pre-wrap\;">&ldquo\;Valley People Need Valley Blood.&rdquo\; The Central California Blood Center is hosting a blood drive at Harmony Magnet Academy! They encourage all participants to drink plenty of water before donating. For more information\, visit their website at </span><a href="https://www.donateblood.org/" style="text-decoration-line: none\;"><span style="font-size: 11pt\; font-family: Arial\; color: rgb(17\, 85\, 204)\; background-color: transparent\; font-variant-numeric: normal\; font-variant-east-asian: normal\; text-decoration-line: underline\; text-decoration-skip-ink: none\; vertical-align: baseline\; white-space: pre-wrap\;">https://www.donateblood.org/</span></a><span style="font-size: 11pt\; font-family: Arial\; color: rgb(0\, 0\, 0)\; background-color: transparent\; font-variant-numeric: normal\; font-variant-east-asian: normal\; vertical-align: baseline\; white-space: pre-wrap\;">.</span></span>
LOCATION:Harmony Magnet Academy 19429 Road 228 Strathmore\, CA 93267
UID:e.2225.2131
SEQUENCE:3
DTSTAMP:20260420T204244Z
URL:https://business.portervillechamber.org/events/details/blood-drive-harmony-magnet-academy-2131
END:VEVENT

END:VCALENDAR
