BEGIN:VCALENDAR
VERSION:2.0
PRODID:-//ChamberMaster//Event Calendar 2.0//EN
METHOD:PUBLISH
X-PUBLISHED-TTL:P3D
REFRESH-INTERVAL:P3D
CALSCALE:GREGORIAN
BEGIN:VEVENT
DTSTART:20190212T200000Z
DTEND:20190213T000000Z
X-MICROSOFT-CDO-ALLDAYEVENT:FALSE
SUMMARY:Blood Drive- Sierra View Medical Center
DESCRIPTION:To set up an appointment\, email marketing@sierra-view.com or call (559) 791-3922
X-ALT-DESC;FMTTYPE=text/html:To set up an appointment\, email marketing@sierra-view.com or call (559) 791-3922
LOCATION:Sierra View Medical Center Langley\, Russell\, and North Palisade Conference Rooms 465 W Putnam Ave
UID:e.2225.1863
SEQUENCE:3
DTSTAMP:20260421T174217Z
URL:https://business.portervillechamber.org/events/details/blood-drive-sierra-view-medical-center-1863
END:VEVENT

END:VCALENDAR
