BEGIN:VCALENDAR
VERSION:2.0
PRODID:-//ChamberMaster//Event Calendar 2.0//EN
METHOD:PUBLISH
X-PUBLISHED-TTL:P3D
REFRESH-INTERVAL:P3D
CALSCALE:GREGORIAN
BEGIN:VEVENT
DTSTART:20190611T190000Z
DTEND:20190611T230000Z
X-MICROSOFT-CDO-ALLDAYEVENT:FALSE
SUMMARY:Blood Drive- Sierra View Medical Center
DESCRIPTION:To schedule an appointment please call (559) 791-3922 or email marketing@sierra-view.com
X-ALT-DESC;FMTTYPE=text/html:To schedule an appointment please call (559) 791-3922 or email marketing@sierra-view.com
LOCATION:Sierra View Medical Center Langley\, Russell & N. Palisade Rooms
UID:e.2225.1972
SEQUENCE:3
DTSTAMP:20260421T110851Z
URL:https://business.portervillechamber.org/events/details/blood-drive-sierra-view-medical-center-1972
END:VEVENT

END:VCALENDAR
