BEGIN:VCALENDAR
VERSION:2.0
PRODID:-//ChamberMaster//Event Calendar 2.0//EN
METHOD:PUBLISH
X-PUBLISHED-TTL:P3D
REFRESH-INTERVAL:P3D
CALSCALE:GREGORIAN
BEGIN:VEVENT
DTSTART;VALUE=DATE:20200211
DTEND;VALUE=DATE:20200212
TRANSP:TRANSPARENT
X-MICROSOFT-CDO-ALLDAYEVENT:TRUE
SUMMARY:Blood Drive: Strathmore High School
DESCRIPTION:"Valley People Need Valley Blood." The Central California Blood Center is hosting a blood drive at Strathmore High School! They encourage all participants to drink plenty of water before donating. For more information\, visit their website at https://www.donateblood.org/.
X-ALT-DESC;FMTTYPE=text/html:<span style="font-variant-numeric: normal\; font-variant-east-asian: normal\; background-color: transparent\; font-size: 11pt\; font-family: Arial\; color: rgb(0\, 0\, 0)\; vertical-align: baseline\; white-space: pre-wrap\;">&ldquo\;Valley People Need Valley Blood.&rdquo\; The Central California Blood Center is hosting a blood drive at Strathmore High School! They encourage all participants to drink plenty of water before donating. For more information\, visit their website at </span><a href="https://www.donateblood.org/" style="text-decoration-line: none\;"><span style="font-size: 11pt\; font-family: Arial\; color: rgb(17\, 85\, 204)\; background-color: transparent\; font-variant-numeric: normal\; font-variant-east-asian: normal\; text-decoration-line: underline\; text-decoration-skip-ink: none\; vertical-align: baseline\; white-space: pre-wrap\;">https://www.donateblood.org/</span></a><span style="font-variant-numeric: normal\; font-variant-east-asian: normal\; background-color: transparent\; font-size: 11pt\; font-family: Arial\; color: rgb(0\, 0\, 0)\; vertical-align: baseline\; white-space: pre-wrap\;">.</span>
LOCATION:Strathmore High School 22568 Ave 196 Strathmore\, CA 93267
UID:e.2225.2132
SEQUENCE:3
DTSTAMP:20260420T203527Z
URL:https://business.portervillechamber.org/events/details/blood-drive-strathmore-high-school-2132
END:VEVENT

END:VCALENDAR
