BEGIN:VCALENDAR
VERSION:2.0
PRODID:-//ChamberMaster//Event Calendar 2.0//EN
METHOD:PUBLISH
X-PUBLISHED-TTL:P3D
REFRESH-INTERVAL:P3D
CALSCALE:GREGORIAN
BEGIN:VEVENT
DTSTART:20170716T030000Z
DTEND:20170716T050000Z
X-MICROSOFT-CDO-ALLDAYEVENT:FALSE
SUMMARY:Blood Sweat & Tears Concert
DESCRIPTION:We invite you to a Blood Sweat and Tears concert benefiting Hands in the Community\, a nonprofit.
X-ALT-DESC;FMTTYPE=text/html:We invite you to a Blood Sweat and Tears concert benefiting Hands in the Community\, a nonprofit.
LOCATION:Visalia Fox Theater
UID:e.2225.1177
SEQUENCE:3
DTSTAMP:20260423T052813Z
URL:https://business.portervillechamber.org/events/details/blood-sweat-tears-concert-1177
END:VEVENT

END:VCALENDAR
