BEGIN:VCALENDAR
VERSION:2.0
PRODID:-//ChamberMaster//Event Calendar 2.0//EN
METHOD:PUBLISH
X-PUBLISHED-TTL:P3D
REFRESH-INTERVAL:P3D
CALSCALE:GREGORIAN
BEGIN:VEVENT
DTSTART:20190407T003000Z
DTEND:20190407T030000Z
X-MICROSOFT-CDO-ALLDAYEVENT:FALSE
SUMMARY:Blue and Gold Bash - Monache Highschool
DESCRIPTION:Monache Highschool would like to invite you to their Blue and Gold Bash. A 50th year celebration of the Monache Music Department. *Casual Attire*
X-ALT-DESC;FMTTYPE=text/html:Monache Highschool would like to invite you to their Blue and Gold Bash. A 50th year celebration of the Monache Music Department. *Casual Attire*
LOCATION:20113 Ave. 168\, Portervill CA\, 93257
UID:e.2225.1883
SEQUENCE:3
DTSTAMP:20260421T140813Z
URL:https://business.portervillechamber.org/events/details/blue-and-gold-bash-monache-highschool-1883
END:VEVENT

END:VCALENDAR
