BEGIN:VCALENDAR
VERSION:2.0
PRODID:-//ChamberMaster//Event Calendar 2.0//EN
METHOD:PUBLISH
X-PUBLISHED-TTL:P3D
REFRESH-INTERVAL:P3D
CALSCALE:GREGORIAN
BEGIN:VEVENT
DTSTART:20200301T020000Z
DTEND:20200301T050000Z
X-MICROSOFT-CDO-ALLDAYEVENT:FALSE
SUMMARY:Buck Shaffer Spectacular
DESCRIPTION:Buck Shaffer Spectacular is a fast-moving\, entertaining variety show. Come see the variety of talent that Porterville has to offer.
X-ALT-DESC;FMTTYPE=text/html:Buck Shaffer Spectacular is a fast-moving\, entertaining variety show. Come see the variety of talent that Porterville has to offer.
LOCATION:Porterville Memorial Auditorium 415 W Olive Ave Porterville\, CA 93257
UID:e.2225.2113
SEQUENCE:3
DTSTAMP:20260420T202624Z
URL:https://business.portervillechamber.org/events/details/buck-shaffer-spectacular-2113
END:VEVENT

END:VCALENDAR
