BEGIN:VCALENDAR
VERSION:2.0
PRODID:-//ChamberMaster//Event Calendar 2.0//EN
METHOD:PUBLISH
X-PUBLISHED-TTL:P3D
REFRESH-INTERVAL:P3D
CALSCALE:GREGORIAN
BEGIN:VEVENT
DTSTART:20190224T020000Z
DTEND:20190224T040000Z
X-MICROSOFT-CDO-ALLDAYEVENT:FALSE
SUMMARY:Buck Shaffer Spectacular - The Circus Comes To Town
DESCRIPTION:The Circus Comes to Town is this years theme for the Buck Shaffer Spectacular.
X-ALT-DESC;FMTTYPE=text/html:The Circus Comes to Town is this years theme for the Buck Shaffer Spectacular.<br />\n&nbsp\;
LOCATION:Porterville Memorial Auditorium 415 W. Olive Ave.
UID:e.2225.1864
SEQUENCE:3
DTSTAMP:20260421T192702Z
URL:https://business.portervillechamber.org/events/details/buck-shaffer-spectacular-the-circus-comes-to-town-1864
END:VEVENT

END:VCALENDAR
