BEGIN:VCALENDAR
VERSION:2.0
PRODID:-//ChamberMaster//Event Calendar 2.0//EN
METHOD:PUBLISH
X-PUBLISHED-TTL:P3D
REFRESH-INTERVAL:P3D
CALSCALE:GREGORIAN
BEGIN:VEVENT
DTSTART:20190427T010000Z
DTEND:20190427T033000Z
X-MICROSOFT-CDO-ALLDAYEVENT:FALSE
SUMMARY:Bunco and Dinner Under the Stars
DESCRIPTION:The Zonta club of Porterville wishes to invite you to Bunco and Dinner Under the Stars. All procceds support The Zonta Club of Porterville Scholarship program.
X-ALT-DESC;FMTTYPE=text/html:The Zonta club of Porterville wishes to invite you to Bunco and Dinner Under the Stars. All procceds support The Zonta Club of Porterville Scholarship program.
LOCATION:Nuckols Ranch 13144 Road 216. Porterville
UID:e.2225.1890
SEQUENCE:3
DTSTAMP:20260421T140851Z
URL:https://business.portervillechamber.org/events/details/bunco-and-dinner-under-the-stars-1890
END:VEVENT

END:VCALENDAR
