BEGIN:VCALENDAR
VERSION:2.0
PRODID:-//ChamberMaster//Event Calendar 2.0//EN
METHOD:PUBLISH
X-PUBLISHED-TTL:P3D
REFRESH-INTERVAL:P3D
CALSCALE:GREGORIAN
BEGIN:VEVENT
DTSTART:20170728T003000Z
DTEND:20170728T023000Z
X-MICROSOFT-CDO-ALLDAYEVENT:FALSE
SUMMARY:Business after Hours
DESCRIPTION:Business after Hours Sponsored by TREDC
X-ALT-DESC;FMTTYPE=text/html:Business after Hours Sponsored by TREDC
LOCATION:Oak Pit
UID:e.2225.1144
SEQUENCE:3
DTSTAMP:20260423T032936Z
URL:https://business.portervillechamber.org/events/details/business-after-hours-07-27-2017-1144
END:VEVENT

END:VCALENDAR
