BEGIN:VCALENDAR
VERSION:2.0
PRODID:-//ChamberMaster//Event Calendar 2.0//EN
METHOD:PUBLISH
X-PUBLISHED-TTL:P3D
REFRESH-INTERVAL:P3D
CALSCALE:GREGORIAN
BEGIN:VEVENT
DTSTART:20180323T003000Z
DTEND:20180323T020000Z
X-MICROSOFT-CDO-ALLDAYEVENT:FALSE
SUMMARY:Business after Hours
DESCRIPTION:Come out and join the Chamber and Family HealthCare Network at the Business after Hours.  FHCN will be giving a presentation and updates of all their services. Refreshment will be served.
X-ALT-DESC;FMTTYPE=text/html:Come out and join the Chamber and&nbsp\;Family HealthCare Network at the Business after Hours.&nbsp\; FHCN will be giving a presentation and updates of all their services. Refreshment will be served.&nbsp\;
LOCATION:1137 W. Poplar Ave (Annex Building)
UID:e.2225.1291
SEQUENCE:3
DTSTAMP:20260422T131841Z
URL:https://business.portervillechamber.org/events/details/business-after-hours-1291
END:VEVENT

END:VCALENDAR
