BEGIN:VCALENDAR
VERSION:2.0
PRODID:-//ChamberMaster//Event Calendar 2.0//EN
METHOD:PUBLISH
X-PUBLISHED-TTL:P3D
REFRESH-INTERVAL:P3D
CALSCALE:GREGORIAN
BEGIN:VEVENT
DTSTART:20190510T003000Z
DTEND:20190510T020000Z
X-MICROSOFT-CDO-ALLDAYEVENT:FALSE
SUMMARY:Business After Hours and Fair Kick Off!
DESCRIPTION:Please join Bank of the Sierra and the Porterville Chamber of Commerce\n\nfor their BUSINESS AFTER HOURS honoring Livestock Buyers.
X-ALT-DESC;FMTTYPE=text/html:Please join Bank of the Sierra and the Porterville Chamber of Commerce<br />\nfor their BUSINESS AFTER HOURS honoring Livestock Buyers.
LOCATION:Bank of the Sierra 90 N. Main St Porterville\, CA 93257
UID:e.2225.1949
SEQUENCE:3
DTSTAMP:20260421T125204Z
URL:https://business.portervillechamber.org/events/details/business-after-hours-and-fair-kick-off-1949
END:VEVENT

END:VCALENDAR
