BEGIN:VCALENDAR
VERSION:2.0
PRODID:-//ChamberMaster//Event Calendar 2.0//EN
METHOD:PUBLISH
X-PUBLISHED-TTL:P3D
REFRESH-INTERVAL:P3D
CALSCALE:GREGORIAN
BEGIN:VEVENT
DTSTART:20171117T013000Z
DTEND:20171117T030000Z
X-MICROSOFT-CDO-ALLDAYEVENT:FALSE
SUMMARY:Business after Hours - Fitzpatrick Professional Accountancy
DESCRIPTION:Business after Hour\n\nSponsored and Hosted by Fitzpatrick Professional Accountancy
X-ALT-DESC;FMTTYPE=text/html:Business after Hour<br />\nSponsored and Hosted by Fitzpatrick Professional Accountancy
LOCATION:189 N Villa
UID:e.2225.1262
SEQUENCE:3
DTSTAMP:20260422T202348Z
URL:https://business.portervillechamber.org/events/details/business-after-hours-fitzpatrick-professional-accountancy-1262
END:VEVENT

END:VCALENDAR
