BEGIN:VCALENDAR
VERSION:2.0
PRODID:-//ChamberMaster//Event Calendar 2.0//EN
METHOD:PUBLISH
X-PUBLISHED-TTL:P3D
REFRESH-INTERVAL:P3D
CALSCALE:GREGORIAN
BEGIN:VEVENT
DTSTART:20180420T003000Z
DTEND:20180420T020000Z
X-MICROSOFT-CDO-ALLDAYEVENT:FALSE
SUMMARY:Business after Hours-Iris Festival Kick-Off
DESCRIPTION:Business after Hours-Iris Festival Kick-Off\n\nCome joins us at The Oak Pit as the Tule River Economic Development Corporation hosts our event!
X-ALT-DESC;FMTTYPE=text/html:Business after Hours-Iris Festival Kick-Off<br />\nCome joins us at The Oak Pit as the Tule River Economic Development Corporation hosts our event!
LOCATION:The Oak Pit 615 N Main Street
UID:e.2225.1463
SEQUENCE:3
DTSTAMP:20260422T113215Z
URL:https://business.portervillechamber.org/events/details/business-after-hours-iris-festival-kick-off-1463
END:VEVENT

END:VCALENDAR
