BEGIN:VCALENDAR
VERSION:2.0
PRODID:-//ChamberMaster//Event Calendar 2.0//EN
METHOD:PUBLISH
X-PUBLISHED-TTL:P3D
REFRESH-INTERVAL:P3D
CALSCALE:GREGORIAN
BEGIN:VEVENT
DTSTART:20190426T003000Z
DTEND:20190426T020000Z
X-MICROSOFT-CDO-ALLDAYEVENT:FALSE
SUMMARY:Business After Hours- Iris Festival Kick- Off
DESCRIPTION:
X-ALT-DESC;FMTTYPE=text/html:
LOCATION:Oak Pit 615 N Main St
UID:e.2225.1947
SEQUENCE:3
DTSTAMP:20260421T141137Z
URL:https://business.portervillechamber.org/events/details/business-after-hours-iris-festival-kick-off-1947
END:VEVENT

END:VCALENDAR
