BEGIN:VCALENDAR
VERSION:2.0
PRODID:-//ChamberMaster//Event Calendar 2.0//EN
METHOD:PUBLISH
X-PUBLISHED-TTL:P3D
REFRESH-INTERVAL:P3D
CALSCALE:GREGORIAN
BEGIN:VEVENT
DTSTART:20200117T013000Z
DTEND:20200117T030000Z
X-MICROSOFT-CDO-ALLDAYEVENT:FALSE
SUMMARY:Business After Hours: Mixer and Burkey Center Ribbon Cutting
DESCRIPTION:Burton School District is hosting Business After Hours on January 16th\, beginning at 5:30 p.m. Join us at the Burkey Center\, and celebrate Burkey Center's Ribbon Cutting.
X-ALT-DESC;FMTTYPE=text/html:<span id="docs-internal-guid-b1ab9cea-7fff-7d1a-924b-c72ffe0a5f99"><span style="font-size: 11pt\; font-family: Arial\; color: rgb(0\, 0\, 0)\; background-color: transparent\; font-variant-numeric: normal\; font-variant-east-asian: normal\; vertical-align: baseline\; white-space: pre-wrap\;">Burton School District is hosting Business After Hours on January 16th\, beginning at 5:30 p.m. Join us at the Burkey Center\, and celebrate Burkey Center&rsquo\;s Ribbon Cutting.</span></span>
LOCATION:Burkey Center 2440 W Henderson Porterville\, CA 93257
UID:e.2225.2110
SEQUENCE:3
DTSTAMP:20260420T222211Z
URL:https://business.portervillechamber.org/events/details/business-after-hours-mixer-and-burkey-center-ribbon-cutting-2110
END:VEVENT

END:VCALENDAR
