BEGIN:VCALENDAR
VERSION:2.0
PRODID:-//ChamberMaster//Event Calendar 2.0//EN
METHOD:PUBLISH
X-PUBLISHED-TTL:P3D
REFRESH-INTERVAL:P3D
CALSCALE:GREGORIAN
BEGIN:VEVENT
DTSTART:20180504T003000Z
DTEND:20180504T020000Z
X-MICROSOFT-CDO-ALLDAYEVENT:FALSE
SUMMARY:Business after Hours - Porterville Fair Kick-Off Hosted by Bank of the Sierra
DESCRIPTION:Business after Hours - Fair Kick-Off will be hosted once again by Bank of the Sierra.
X-ALT-DESC;FMTTYPE=text/html:Business after Hours - Fair Kick-Off will be hosted once again by Bank of the Sierra.&nbsp\;&nbsp\;
LOCATION:90 N Main Street
UID:e.2225.1486
SEQUENCE:3
DTSTAMP:20260422T092817Z
URL:https://business.portervillechamber.org/events/details/business-after-hours-porterville-fair-kick-off-hosted-by-bank-of-the-sierra-1486
END:VEVENT

END:VCALENDAR
