BEGIN:VCALENDAR
VERSION:2.0
PRODID:-//ChamberMaster//Event Calendar 2.0//EN
METHOD:PUBLISH
X-PUBLISHED-TTL:P3D
REFRESH-INTERVAL:P3D
CALSCALE:GREGORIAN
BEGIN:VEVENT
DTSTART:20200221T013000Z
DTEND:20200221T030000Z
X-MICROSOFT-CDO-ALLDAYEVENT:FALSE
SUMMARY:Business After Hours: PUSD and Porterville Education Foundation
DESCRIPTION:A Porterville Chamber of Commerce Networking Mixer.\n\n\n\nThe February Business After Hours is hosted by Porterville Unified School District and Porterville Education Foundation. Attend this networking event and enjoy business connections\, appetizers\, and raffle prizes!
X-ALT-DESC;FMTTYPE=text/html:A Porterville Chamber of Commerce Networking Mixer.<br />\n<br />\nThe February Business After Hours is hosted by Porterville Unified School District and Porterville Education Foundation. Attend this networking event and enjoy business connections\, appetizers\, and raffle prizes!
LOCATION:Strathmore High Spartan Farm Market 22568 Ave 196 Strathmore\, CA 93267
UID:e.2225.2120
SEQUENCE:3
DTSTAMP:20260420T221652Z
URL:https://business.portervillechamber.org/events/details/business-after-hours-pusd-and-porterville-education-foundation-2120
END:VEVENT

END:VCALENDAR
