BEGIN:VCALENDAR
VERSION:2.0
PRODID:-//ChamberMaster//Event Calendar 2.0//EN
METHOD:PUBLISH
X-PUBLISHED-TTL:P3D
REFRESH-INTERVAL:P3D
CALSCALE:GREGORIAN
BEGIN:VEVENT
DTSTART:20190621T003000Z
DTEND:20190621T020000Z
X-MICROSOFT-CDO-ALLDAYEVENT:FALSE
SUMMARY:Business After Hours with Eagle Mountain Casino
DESCRIPTION:
X-ALT-DESC;FMTTYPE=text/html:
LOCATION:The Forest Buffet Eagle Mountain Casino
UID:e.2225.1954
SEQUENCE:3
DTSTAMP:20260421T110425Z
URL:https://business.portervillechamber.org/events/details/business-after-hours-with-eagle-mountain-casino-1954
END:VEVENT

END:VCALENDAR
