BEGIN:VCALENDAR
VERSION:2.0
PRODID:-//ChamberMaster//Event Calendar 2.0//EN
METHOD:PUBLISH
X-PUBLISHED-TTL:P3D
REFRESH-INTERVAL:P3D
CALSCALE:GREGORIAN
BEGIN:VEVENT
DTSTART:20171013T003000Z
DTEND:20171013T023000Z
X-MICROSOFT-CDO-ALLDAYEVENT:FALSE
SUMMARY:Business Expo and Taste of Porterville
DESCRIPTION:
X-ALT-DESC;FMTTYPE=text/html:
LOCATION:
UID:e.2225.1149
SEQUENCE:3
DTSTAMP:20260422T215643Z
URL:https://business.portervillechamber.org/events/details/business-expo-and-taste-of-porterville-1149
END:VEVENT

END:VCALENDAR
