BEGIN:VCALENDAR
VERSION:2.0
PRODID:-//ChamberMaster//Event Calendar 2.0//EN
METHOD:PUBLISH
X-PUBLISHED-TTL:P3D
REFRESH-INTERVAL:P3D
CALSCALE:GREGORIAN
BEGIN:VEVENT
DTSTART:20180516T170000Z
DTEND:20180516T230000Z
X-MICROSOFT-CDO-ALLDAYEVENT:FALSE
SUMMARY:California Desert paintings by Joy Collier
DESCRIPTION:California Desert paintings by Joy Collier at the Porterville Art Association Gallery May 16th - July 14th. Artist reception on Sunday May 20th 2-4pm. These desert paintings were painted in oil and on location (in plein aire) during the late 1990's. Visit Deserts: ( www.joycollier.com/deserts )
X-ALT-DESC;FMTTYPE=text/html:California Desert paintings by Joy Collier at the Porterville Art Association Gallery May 16th - July 14th. Artist reception on Sunday May 20th 2-4pm. These desert paintings were painted in oil and on location (in plein aire) during the late 1990&#39\;s. Visit Deserts: ( www.joycollier.com/deserts )
LOCATION:Porterville Art Association
UID:e.2225.1493
SEQUENCE:3
DTSTAMP:20260422T092425Z
URL:https://business.portervillechamber.org/events/details/california-desert-paintings-by-joy-collier-1493
END:VEVENT

END:VCALENDAR
