BEGIN:VCALENDAR
VERSION:2.0
PRODID:-//ChamberMaster//Event Calendar 2.0//EN
METHOD:PUBLISH
X-PUBLISHED-TTL:P3D
REFRESH-INTERVAL:P3D
CALSCALE:GREGORIAN
BEGIN:VEVENT
DTSTART;VALUE=DATE:20191224
DTEND;VALUE=DATE:20191225
TRANSP:TRANSPARENT
X-MICROSOFT-CDO-ALLDAYEVENT:TRUE
SUMMARY:Carols by Candlelight
DESCRIPTION:The Church of the Nazarene is hosting Carols by Candlelight. This is an evening for the whole family.
X-ALT-DESC;FMTTYPE=text/html:<span id="docs-internal-guid-fe7d6452-7fff-0153-74b6-f321917a99da"><span style="font-size: 11pt\; font-family: Arial\; color: rgb(0\, 0\, 0)\; background-color: transparent\; font-variant-numeric: normal\; font-variant-east-asian: normal\; vertical-align: baseline\; white-space: pre-wrap\;">The Church of the Nazarene is hosting Carols by Candlelight. </span></span><span id="docs-internal-guid-fe679514-7fff-5265-4d19-820e26a00633"><span style="font-size: 11pt\; font-family: Arial\; color: rgb(0\, 0\, 0)\; background-color: transparent\; font-variant-numeric: normal\; font-variant-east-asian: normal\; vertical-align: baseline\; white-space: pre-wrap\;">This is an evening for the whole family.</span></span>
LOCATION:The Church of the Nazarene
UID:e.2225.2104
SEQUENCE:3
DTSTAMP:20260420T235458Z
URL:https://business.portervillechamber.org/events/details/carols-by-candlelight-2104
END:VEVENT

END:VCALENDAR
