BEGIN:VCALENDAR
VERSION:2.0
PRODID:-//ChamberMaster//Event Calendar 2.0//EN
METHOD:PUBLISH
X-PUBLISHED-TTL:P3D
REFRESH-INTERVAL:P3D
CALSCALE:GREGORIAN
BEGIN:VEVENT
DTSTART:20180829T190000Z
DTEND:20180829T210000Z
X-MICROSOFT-CDO-ALLDAYEVENT:FALSE
SUMMARY:CASA "Heart to Be a Hero" Mixer
DESCRIPTION:Do you have the heart to be a hero? CASA of Tulare County invites you to the CASA "Heart to be a Hero" event on Wednesday\, August 29th -- a free\, informal mixer. Open to the community\, it's an opportunity to learn more about CASA and interact with current advocates and staff who will share their experience about helping foster children in our community and enjoy some appetizers and refreshments. Learn about how you can make a difference in the lives of our community's most vulnerable children -- join us at our Porterville office from12:00PM to 2:00PM and at our Visalia office from 4:30PM to 6:30PM.
X-ALT-DESC;FMTTYPE=text/html:Do you have the heart to be a hero? CASA of Tulare County invites you to the CASA &ldquo\;Heart to be a Hero&rdquo\; event on Wednesday\, August 29th -- a free\, informal mixer. Open to the community\, it&rsquo\;s an opportunity to learn more about CASA and interact with current advocates and staff who will share their experience about helping foster children in our community and enjoy some appetizers and refreshments. Learn about how you can make a difference in the lives of our community&rsquo\;s most vulnerable children -- join us at our Porterville office from12:00PM to 2:00PM and at our Visalia office from 4:30PM to 6:30PM.
LOCATION:CASA of Tulare County - Porterville 93 Main Street Suite C Porterville\, CA
UID:e.2225.1762
SEQUENCE:3
DTSTAMP:20260422T041113Z
URL:https://business.portervillechamber.org/events/details/casa-heart-to-be-a-hero-mixer-1762
END:VEVENT

END:VCALENDAR
