BEGIN:VCALENDAR
VERSION:2.0
PRODID:-//ChamberMaster//Event Calendar 2.0//EN
METHOD:PUBLISH
X-PUBLISHED-TTL:P3D
REFRESH-INTERVAL:P3D
CALSCALE:GREGORIAN
BEGIN:VEVENT
DTSTART:20190114T150000Z
DTEND:20190114T163000Z
X-MICROSOFT-CDO-ALLDAYEVENT:FALSE
SUMMARY:CASA Mini- Mixer
DESCRIPTION:Join CASA for coffee and donuts!
X-ALT-DESC;FMTTYPE=text/html:Join CASA for coffee and donuts!&nbsp\;
LOCATION:Hergesheimer's Donut Factory 963 W Henderson Ave
UID:e.2225.1851
SEQUENCE:3
DTSTAMP:20260421T192141Z
URL:https://business.portervillechamber.org/events/details/casa-mini-mixer-1851
END:VEVENT

END:VCALENDAR
