BEGIN:VCALENDAR
VERSION:2.0
PRODID:-//ChamberMaster//Event Calendar 2.0//EN
METHOD:PUBLISH
X-PUBLISHED-TTL:P3D
REFRESH-INTERVAL:P3D
CALSCALE:GREGORIAN
BEGIN:VEVENT
DTSTART:20180303T160000Z
DTEND:20180303T220000Z
X-MICROSOFT-CDO-ALLDAYEVENT:FALSE
SUMMARY:CASA of Tualre County Estate Sale
DESCRIPTION:Come and check out the good we've got a lot! \n\nCASA of Tulare County Estate Sale
X-ALT-DESC;FMTTYPE=text/html:Come and check out the good we&#39\;ve got a lot!&nbsp\;<br />\nCASA of Tulare County Estate Sale
LOCATION:1146 North Chinowth Street Visalia CA 93291
UID:e.2225.1441
SEQUENCE:3
DTSTAMP:20260422T133020Z
URL:https://business.portervillechamber.org/events/details/casa-of-tualre-county-estate-sale-1441
END:VEVENT

END:VCALENDAR
