BEGIN:VCALENDAR
VERSION:2.0
PRODID:-//ChamberMaster//Event Calendar 2.0//EN
METHOD:PUBLISH
X-PUBLISHED-TTL:P3D
REFRESH-INTERVAL:P3D
CALSCALE:GREGORIAN
BEGIN:VEVENT
DTSTART:20180512T004500Z
DTEND:20180512T065500Z
X-MICROSOFT-CDO-ALLDAYEVENT:FALSE
SUMMARY:CASA of Tulare County 24th Annual Once Upon a Dream Gala Dinner and Auction
DESCRIPTION:Join CASA of Tulare County for a fun\, fabulous evening with a five star meal by the Vintage Press\, an amazing silent and live auction and an opportunity to support foster youth of Tulare County\, too! No-Host bar\, Semi-Formal attire. Tickets and event sponsorships available now -- call JoAnn Bol at (559)288-6911 to learn more!
X-ALT-DESC;FMTTYPE=text/html:Join CASA of Tulare County for a fun\, fabulous evening with a five star meal by the Vintage Press\, an amazing silent and live auction and an opportunity to support foster youth of Tulare County\, too! No-Host bar\, Semi-Formal attire. Tickets and event sponsorships available now -- call JoAnn Bol at (559)288-6911 to learn more!
LOCATION:Visalia Convention Center 303 East Acequia Avenue Visalia\, CA 93291
UID:e.2225.1443
SEQUENCE:3
DTSTAMP:20260422T113510Z
URL:https://business.portervillechamber.org/events/details/casa-of-tulare-county-24th-annual-once-upon-a-dream-gala-dinner-and-auction-1443
END:VEVENT

END:VCALENDAR
