BEGIN:VCALENDAR
VERSION:2.0
PRODID:-//ChamberMaster//Event Calendar 2.0//EN
METHOD:PUBLISH
X-PUBLISHED-TTL:P3D
REFRESH-INTERVAL:P3D
CALSCALE:GREGORIAN
BEGIN:VEVENT
DTSTART:20170906T200000Z
DTEND:20170906T210000Z
X-MICROSOFT-CDO-ALLDAYEVENT:FALSE
SUMMARY:CASA of Tulare County-Ribbon Cutting
DESCRIPTION:CASA of Tulare County will be having their Grand Opening and Ribbon Cutting at their new Porterville Office.
X-ALT-DESC;FMTTYPE=text/html:CASA of Tulare County will be having their Grand Opening and Ribbon Cutting at their new Porterville Office.
LOCATION:93 N Main Street\, Suite C
UID:e.2225.1242
SEQUENCE:3
DTSTAMP:20260422T234206Z
URL:https://business.portervillechamber.org/events/details/casa-of-tulare-county-ribbon-cutting-1242
END:VEVENT

END:VCALENDAR
