BEGIN:VCALENDAR
VERSION:2.0
PRODID:-//ChamberMaster//Event Calendar 2.0//EN
METHOD:PUBLISH
X-PUBLISHED-TTL:P3D
REFRESH-INTERVAL:P3D
CALSCALE:GREGORIAN
BEGIN:VEVENT
DTSTART:20180324T143000Z
DTEND:20180324T190000Z
X-MICROSOFT-CDO-ALLDAYEVENT:FALSE
SUMMARY:CASA of Tulare County Superhero 5K & 1K Walk / Run
DESCRIPTION:Join CASA of Tulare County at the 2nd Annual Superhero Run! It's a great way to kick off the spring season with a brisk run or stroll through Visalia's historic Mooney Grove Park. The event features a 5k and 1k Run/Walk (timed)\, raffle and a Superhero Costume Contest. You can even create a Team when you register. Come with your very own Fantastic Four . . . or more! It's your day to gather your very own League of Extraordinary Individuals -- family\, co-workers and friends   for a fun day in the park supporting foster youth in Tulare County. Register now and experience the best Superhero 5k and 1k Walk / Run around. Included with your registration: ? One CASA Superhero Run T-Shirt ? Commemorative Gear Bag and Water Battle ( first 75 registrants only) ? Finisher's Medal ? Chip Timed Race ? All registrants are automatically eligible for the raffle -- you will be given raffle tickets on the day of the run!
X-ALT-DESC;FMTTYPE=text/html:Join CASA of Tulare County at the 2nd Annual Superhero Run! It&#39\;s a great way to kick off the spring season with a brisk run or stroll through Visalia&rsquo\;s historic Mooney Grove Park. The event features a 5k and 1k Run/Walk (timed)\, raffle and a Superhero Costume Contest. You can even create a Team when you register. Come with your very own Fantastic Four . . . or more! It&rsquo\;s your day to gather your very own League of Extraordinary Individuals -- family\, co-workers and friends &ndash\; for a fun day in the park supporting foster youth in Tulare County. Register now and experience the best Superhero 5k and 1k Walk / Run around. Included with your registration: ? One CASA Superhero Run T-Shirt ? Commemorative Gear Bag and Water Battle ( first 75 registrants only) ? Finisher&#39\;s Medal ? Chip Timed Race ? All registrants are automatically eligible for the raffle -- you will be given raffle tickets on the day of the run!
LOCATION:Mooney Grove Park 27000 South Mooney Blvd. Visalia\, CA 93277
UID:e.2225.1442
SEQUENCE:3
DTSTAMP:20260422T151243Z
URL:https://business.portervillechamber.org/events/details/casa-of-tulare-county-superhero-5k-1k-walk-run-1442
END:VEVENT

END:VCALENDAR
