BEGIN:VCALENDAR
VERSION:2.0
PRODID:-//ChamberMaster//Event Calendar 2.0//EN
METHOD:PUBLISH
X-PUBLISHED-TTL:P3D
REFRESH-INTERVAL:P3D
CALSCALE:GREGORIAN
BEGIN:VEVENT
DTSTART:20200105T200000Z
DTEND:20200106T000000Z
X-MICROSOFT-CDO-ALLDAYEVENT:FALSE
SUMMARY:Celebration for Dia de Reyes- La Poderosa KTIP
DESCRIPTION:Altura Centers for Health\, Porterville Chamber of Commerce\, and La Poderosa invite you to celebrate the Day of the Kings on Sunday\, January 5th from 12:00 p.m. to 4:00 p.m. at the radio station's parking lot located at 1660 N. Newcomb Street\, Porterville.\n\nCome and meet Marlene Quinto\, La Vozalona!\n\nWe will have the Three Wise Men\, and there will be champurrado\, bread\, and three kings bread.\n\n\nAlso\, there will be pinatas\, raffles\, and toys for the kids!
X-ALT-DESC;FMTTYPE=text/html:<p style="margin: 0px 0px 6px\; font-family: Helvetica\, Arial\, sans-serif\; color: rgb(28\, 30\, 33)\; font-size: 14px\;">Altura Centers for Health\, Porterville Chamber of Commerce\, and La Poderosa invite you to celebrate the Day of the Kings on Sunday\, January 5th from 12:00 p.m. to 4:00 p.m. at the radio station&#39\;s parking lot located at 1660 N. Newcomb Street\, Porterville.</p>\n\n<p style="margin: 6px 0px\; font-family: Helvetica\, Arial\, sans-serif\; color: rgb(28\, 30\, 33)\; font-size: 14px\;">Come and meet Marlene Quinto\, La Vozalona!</p>\n\n<p style="margin: 6px 0px\; font-family: Helvetica\, Arial\, sans-serif\; color: rgb(28\, 30\, 33)\; font-size: 14px\;">We will have the Three Wise Men\, and there will be champurrado\, bread\, and three kings bread.</p>\n\n<div class="text_exposed_show" style="display: inline\; font-family: Helvetica\, Arial\, sans-serif\; color: rgb(28\, 30\, 33)\; font-size: 14px\;">\n<p style="margin: 0px 0px 6px\; font-family: inherit\;">Also\, there will be pinatas\, raffles\, and toys for the kids!</p>\n</div>\n
LOCATION:La Poderosa KTIP 1660 N. Newcomb Street\, Porterville\, CA 93257
UID:e.2225.2105
SEQUENCE:3
DTSTAMP:20260420T221017Z
URL:https://business.portervillechamber.org/events/details/celebration-for-dia-de-reyes-la-poderosa-ktip-2105
END:VEVENT

END:VCALENDAR
