BEGIN:VCALENDAR
VERSION:2.0
PRODID:-//ChamberMaster//Event Calendar 2.0//EN
METHOD:PUBLISH
X-PUBLISHED-TTL:P3D
REFRESH-INTERVAL:P3D
CALSCALE:GREGORIAN
BEGIN:VEVENT
DTSTART:20171104T003000Z
DTEND:20171104T040000Z
X-MICROSOFT-CDO-ALLDAYEVENT:FALSE
SUMMARY:Chamber Awards Dinner
DESCRIPTION:Porterville Chamber of Commerce\n\n2017 Awards Dinner
X-ALT-DESC;FMTTYPE=text/html:Porterville Chamber of Commerce<br />\n2017 Awards Dinner
LOCATION:Nuckols Ranch 13144 Road 216 Porterville CA 93257
UID:e.2225.1151
SEQUENCE:3
DTSTAMP:20260422T195807Z
URL:https://business.portervillechamber.org/events/details/chamber-awards-dinner-1151
END:VEVENT

END:VCALENDAR
