BEGIN:VCALENDAR
VERSION:2.0
PRODID:-//ChamberMaster//Event Calendar 2.0//EN
METHOD:PUBLISH
X-PUBLISHED-TTL:P3D
REFRESH-INTERVAL:P3D
CALSCALE:GREGORIAN
BEGIN:VEVENT
DTSTART:20180829T140000Z
DTEND:20180829T153000Z
X-MICROSOFT-CDO-ALLDAYEVENT:FALSE
SUMMARY:Chamber Board of Directors Meeting
DESCRIPTION:Chamber Board of Directors Meeting
X-ALT-DESC;FMTTYPE=text/html:Chamber Board of Directors Meeting
LOCATION:Chamber Conference Room 93 N Main Street\, Suite A
UID:e.2225.1276
SEQUENCE:3
DTSTAMP:20260422T042517Z
URL:https://business.portervillechamber.org/events/details/chamber-board-of-directors-meeting-08-29-2018-1276
END:VEVENT

END:VCALENDAR
