BEGIN:VCALENDAR
VERSION:2.0
PRODID:-//ChamberMaster//Event Calendar 2.0//EN
METHOD:PUBLISH
X-PUBLISHED-TTL:P3D
REFRESH-INTERVAL:P3D
CALSCALE:GREGORIAN
BEGIN:VEVENT
DTSTART:20190126T160000Z
DTEND:20190126T220000Z
X-MICROSOFT-CDO-ALLDAYEVENT:FALSE
SUMMARY:Chamber Board Of Directors Retreat
DESCRIPTION:
X-ALT-DESC;FMTTYPE=text/html:
LOCATION:93 North Main Street Suit A.
UID:e.2225.1855
SEQUENCE:3
DTSTAMP:20260421T192626Z
URL:https://business.portervillechamber.org/events/details/chamber-board-of-directors-retreat-1855
END:VEVENT

END:VCALENDAR
