BEGIN:VCALENDAR
VERSION:2.0
PRODID:-//ChamberMaster//Event Calendar 2.0//EN
METHOD:PUBLISH
X-PUBLISHED-TTL:P3D
REFRESH-INTERVAL:P3D
CALSCALE:GREGORIAN
BEGIN:VEVENT
DTSTART:20200222T180000Z
DTEND:20200223T020000Z
X-MICROSOFT-CDO-ALLDAYEVENT:FALSE
SUMMARY:Chamber Day at McDermont X
DESCRIPTION:A Free Day for Chamber Members! Tell your employees!\n\n\n\nMcDermont X is inviting all Porterville Chamber Members and their Families to their facility for Free on Saturday\, February 22nd! To participate\, Chamber Members and their Employees must pick up their voucher at the Chamber's Office.
X-ALT-DESC;FMTTYPE=text/html:A Free Day for Chamber Members! Tell your employees!<br />\n<br />\nMcDermont X is inviting all Porterville Chamber Members and their Families to their facility for Free on Saturday\, February 22nd! To participate\, Chamber Members and their Employees must pick up their voucher at the Chamber&#39\;s Office.
LOCATION:McDermont X 365 N Sweetbriar Avenue Lindsay\, CA 93247
UID:e.2225.2124
SEQUENCE:3
DTSTAMP:20260420T221405Z
URL:https://business.portervillechamber.org/events/details/chamber-day-at-mcdermont-x-2124
END:VEVENT

END:VCALENDAR
