BEGIN:VCALENDAR
VERSION:2.0
PRODID:-//ChamberMaster//Event Calendar 2.0//EN
METHOD:PUBLISH
X-PUBLISHED-TTL:P3D
REFRESH-INTERVAL:P3D
CALSCALE:GREGORIAN
BEGIN:VEVENT
DTSTART:20171201T030000Z
DTEND:20171201T050000Z
X-MICROSOFT-CDO-ALLDAYEVENT:FALSE
SUMMARY:Children's Christmas Parade-Downtown Main St
DESCRIPTION:Children's Christmas Parade
X-ALT-DESC;FMTTYPE=text/html:Children&#39\;s Christmas Parade<br />\n&nbsp\;
LOCATION:Downtown Main Street
UID:e.2225.1154
SEQUENCE:3
DTSTAMP:20260422T214447Z
URL:https://business.portervillechamber.org/events/details/children-s-christmas-parade-downtown-main-st-1154
END:VEVENT

END:VCALENDAR
