BEGIN:VCALENDAR
VERSION:2.0
PRODID:-//ChamberMaster//Event Calendar 2.0//EN
METHOD:PUBLISH
X-PUBLISHED-TTL:P3D
REFRESH-INTERVAL:P3D
CALSCALE:GREGORIAN
BEGIN:VEVENT
DTSTART:20181207T213000Z
DTEND:20181207T213000Z
X-MICROSOFT-CDO-ALLDAYEVENT:FALSE
SUMMARY:Christmas Carols- Stafford's
DESCRIPTION:Christmas Carols with Bartlett Middle School
X-ALT-DESC;FMTTYPE=text/html:Christmas Carols with Bartlett Middle School
LOCATION:Stafford's Chocolates
UID:e.2225.1847
SEQUENCE:3
DTSTAMP:20260421T230028Z
URL:https://business.portervillechamber.org/events/details/christmas-carols-stafford-s-1847
END:VEVENT

END:VCALENDAR
