BEGIN:VCALENDAR
VERSION:2.0
PRODID:-//ChamberMaster//Event Calendar 2.0//EN
METHOD:PUBLISH
X-PUBLISHED-TTL:P3D
REFRESH-INTERVAL:P3D
CALSCALE:GREGORIAN
BEGIN:VEVENT
DTSTART:20181201T180000Z
DTEND:20181201T230000Z
X-MICROSOFT-CDO-ALLDAYEVENT:FALSE
SUMMARY:Christmas Home Tour by Zonta Club of Porterville
DESCRIPTION:Zonta Club of Porterville is hosting its Annual Christmas Home Tour and Artisan Boutique. Boutique hours are 10:00 a.m. to 3:00 p.m. There will be several vendors with a wide variety of items for sale. The Zonta Club members will provide baked goods for your enjoyment. The home tour hours are 11:00 a.m. to 3:00 p.m. Come tour these amazing homes located in Porterville and Springville.
X-ALT-DESC;FMTTYPE=text/html:Zonta Club of Porterville is hosting its Annual Christmas Home Tour and Artisan Boutique. Boutique hours are 10:00 a.m. to 3:00 p.m. There will be several vendors with a wide variety of items for sale. The Zonta Club members will provide baked goods for your enjoyment. The home tour hours are 11:00 a.m. to 3:00 p.m. Come tour these amazing homes located in Porterville and Springville.
LOCATION:The Artisan Boutique will be held at Nuckols Ranch\, 13144 Road 216\, Porterville CA.
UID:e.2225.1766
SEQUENCE:3
DTSTAMP:20260421T231119Z
URL:https://business.portervillechamber.org/events/details/christmas-home-tour-by-zonta-club-of-porterville-1766
END:VEVENT

END:VCALENDAR
