BEGIN:VCALENDAR
VERSION:2.0
PRODID:-//ChamberMaster//Event Calendar 2.0//EN
METHOD:PUBLISH
X-PUBLISHED-TTL:P3D
REFRESH-INTERVAL:P3D
CALSCALE:GREGORIAN
BEGIN:VEVENT
DTSTART;VALUE=DATE:20181215
DTEND;VALUE=DATE:20181216
TRANSP:TRANSPARENT
X-MICROSOFT-CDO-ALLDAYEVENT:TRUE
SUMMARY:Christmas Posadas
DESCRIPTION:Christmas Posadas at CHMA Community & Conference Room\n\nRecreation of Mary & Joseph looking for shelter\, Tamale Dinner & drawing for prizes.
X-ALT-DESC;FMTTYPE=text/html:Christmas Posadas at CHMA Community &amp\; Conference Room<br />\nRecreation of Mary &amp\; Joseph looking for shelter\, Tamale Dinner &amp\; drawing for prizes.&nbsp\;
LOCATION:CHMA 466 East Putnam Ave
UID:e.2225.1453
SEQUENCE:3
DTSTAMP:20260421T211104Z
URL:https://business.portervillechamber.org/events/details/christmas-posadas-1453
END:VEVENT

END:VCALENDAR
