BEGIN:VCALENDAR
VERSION:2.0
PRODID:-//ChamberMaster//Event Calendar 2.0//EN
METHOD:PUBLISH
X-PUBLISHED-TTL:P3D
REFRESH-INTERVAL:P3D
CALSCALE:GREGORIAN
BEGIN:VEVENT
DTSTART:20181215T010000Z
DTEND:20181215T040000Z
X-MICROSOFT-CDO-ALLDAYEVENT:FALSE
SUMMARY:Christmas Prime Rib Dinner- Pierpoint Bar & Grill
DESCRIPTION:
X-ALT-DESC;FMTTYPE=text/html:
LOCATION:Pierpoint Bar & Grill
UID:e.2225.1849
SEQUENCE:3
DTSTAMP:20260421T211501Z
URL:https://business.portervillechamber.org/events/details/christmas-prime-rib-dinner-pierpoint-bar-grill-1849
END:VEVENT

END:VCALENDAR
