BEGIN:VCALENDAR
VERSION:2.0
PRODID:-//ChamberMaster//Event Calendar 2.0//EN
METHOD:PUBLISH
X-PUBLISHED-TTL:P3D
REFRESH-INTERVAL:P3D
CALSCALE:GREGORIAN
BEGIN:VEVENT
DTSTART:20180506T190000Z
DTEND:20180507T020000Z
X-MICROSOFT-CDO-ALLDAYEVENT:FALSE
SUMMARY:Cinco de Mayo Fiesta
DESCRIPTION:Comision Honorifica Mexicana Americana presents the Cinco de Mayo Fiesta.  Come out for a family fun event. We will have food vendors\, informational vendors and children games. Non-Profit and Informational booths are free.
X-ALT-DESC;FMTTYPE=text/html:Comision Honorifica&nbsp\;Mexicana Americana presents the Cinco de Mayo Fiesta.&nbsp\; Come out for a family fun event. We will have food vendors\, informational vendors and children games. Non-Profit and Informational booths are free.&nbsp\;
LOCATION:Veteran's Park
UID:e.2225.1450
SEQUENCE:3
DTSTAMP:20260422T110922Z
URL:https://business.portervillechamber.org/events/details/cinco-de-mayo-fiesta-1450
END:VEVENT

END:VCALENDAR
