BEGIN:VCALENDAR
VERSION:2.0
PRODID:-//ChamberMaster//Event Calendar 2.0//EN
METHOD:PUBLISH
X-PUBLISHED-TTL:P3D
REFRESH-INTERVAL:P3D
CALSCALE:GREGORIAN
BEGIN:VEVENT
DTSTART:20180503T010000Z
DTEND:20180503T030000Z
X-MICROSOFT-CDO-ALLDAYEVENT:FALSE
SUMMARY:Cinco de Mayo Pageant
DESCRIPTION:Come join Comision Honorifica Mexicana Americana for the Cinco de Mayo Pageant at the CHMA Community & Conference Center
X-ALT-DESC;FMTTYPE=text/html:Come join Comision Honorifica&nbsp\;Mexicana Americana for the Cinco de Mayo Pageant at the CHMA Community &amp\; Conference Center
LOCATION:466 East Putnam Ave Porterville CA 93257
UID:e.2225.1447
SEQUENCE:3
DTSTAMP:20260422T091936Z
URL:https://business.portervillechamber.org/events/details/cinco-de-mayo-pageant-1447
END:VEVENT

END:VCALENDAR
