BEGIN:VCALENDAR
VERSION:2.0
PRODID:-//ChamberMaster//Event Calendar 2.0//EN
METHOD:PUBLISH
X-PUBLISHED-TTL:P3D
REFRESH-INTERVAL:P3D
CALSCALE:GREGORIAN
BEGIN:VEVENT
DTSTART:20180505T170000Z
DTEND:20180505T190000Z
X-MICROSOFT-CDO-ALLDAYEVENT:FALSE
SUMMARY:Cinco de Mayo Parade
DESCRIPTION:Cinco de Mayo Parade
X-ALT-DESC;FMTTYPE=text/html:Cinco de Mayo Parade
LOCATION:Downtown Main Street-Porterville
UID:e.2225.1449
SEQUENCE:3
DTSTAMP:20260422T091916Z
URL:https://business.portervillechamber.org/events/details/cinco-de-mayo-parade-1449
END:VEVENT

END:VCALENDAR
