BEGIN:VCALENDAR
VERSION:2.0
PRODID:-//ChamberMaster//Event Calendar 2.0//EN
METHOD:PUBLISH
X-PUBLISHED-TTL:P3D
REFRESH-INTERVAL:P3D
CALSCALE:GREGORIAN
BEGIN:VEVENT
DTSTART:20170825T140000Z
DTEND:20170825T160000Z
X-MICROSOFT-CDO-ALLDAYEVENT:FALSE
SUMMARY:Coffee with a Cop
DESCRIPTION:Coffee with a Cop at Hergesheimer's Donut
X-ALT-DESC;FMTTYPE=text/html:Coffee with a Cop at Hergesheimer&#39\;s&nbsp\;Donut
LOCATION:Hergesheimer's Donuts 963 W. Henderson Ave. Porterville CA 93257
UID:e.2225.1228
SEQUENCE:3
DTSTAMP:20260423T012740Z
URL:https://business.portervillechamber.org/events/details/coffee-with-a-cop-1228
END:VEVENT

END:VCALENDAR
