BEGIN:VCALENDAR
VERSION:2.0
PRODID:-//ChamberMaster//Event Calendar 2.0//EN
METHOD:PUBLISH
X-PUBLISHED-TTL:P3D
REFRESH-INTERVAL:P3D
CALSCALE:GREGORIAN
BEGIN:VEVENT
DTSTART:20171216T170000Z
DTEND:20171216T180000Z
X-MICROSOFT-CDO-ALLDAYEVENT:FALSE
SUMMARY:Coffee with a Cop
DESCRIPTION:Coffee with a Cop
X-ALT-DESC;FMTTYPE=text/html:Coffee with a Cop&nbsp\;&nbsp\;&nbsp\;&nbsp\;&nbsp\;&nbsp\;&nbsp\;&nbsp\;
LOCATION:Stafford's Chocolates 114 N Main St
UID:e.2225.1230
SEQUENCE:3
DTSTAMP:20260422T180923Z
URL:https://business.portervillechamber.org/events/details/coffee-with-a-cop-1230
END:VEVENT

END:VCALENDAR
