BEGIN:VCALENDAR
VERSION:2.0
PRODID:-//ChamberMaster//Event Calendar 2.0//EN
METHOD:PUBLISH
X-PUBLISHED-TTL:P3D
REFRESH-INTERVAL:P3D
CALSCALE:GREGORIAN
BEGIN:VEVENT
DTSTART:20170829T150000Z
DTEND:20170829T183000Z
X-MICROSOFT-CDO-ALLDAYEVENT:FALSE
SUMMARY:Coffee with a Cop at Farmers Market
DESCRIPTION:Community\, Conversation\, Coffee and Cops at Farmers Market
X-ALT-DESC;FMTTYPE=text/html:Community\, Conversation\, Coffee and Cops at Farmers Market
LOCATION:Located Downtown Main Street at Centennial Park
UID:e.2225.1238
SEQUENCE:3
DTSTAMP:20260423T013452Z
URL:https://business.portervillechamber.org/events/details/coffee-with-a-cop-at-farmers-market-1238
END:VEVENT

END:VCALENDAR
