BEGIN:VCALENDAR
VERSION:2.0
PRODID:-//ChamberMaster//Event Calendar 2.0//EN
METHOD:PUBLISH
X-PUBLISHED-TTL:P3D
REFRESH-INTERVAL:P3D
CALSCALE:GREGORIAN
BEGIN:VEVENT
DTSTART:20191004T000000Z
DTEND:20191004T020000Z
X-MICROSOFT-CDO-ALLDAYEVENT:FALSE
SUMMARY:Community Welcome Reception for Porterville College President Claudia Habib
DESCRIPTION:The Porterville College Foundation invites you to a community welcome reception for Porterville College President Claudia Habib.
X-ALT-DESC;FMTTYPE=text/html:The Porterville College Foundation invites you to a community welcome reception for Porterville College President Claudia Habib.
LOCATION:Porterville College Student Center Conference Room
UID:e.2225.2044
SEQUENCE:3
DTSTAMP:20260421T035553Z
URL:https://business.portervillechamber.org/events/details/community-welcome-reception-for-porterville-college-president-claudia-habib-2044
END:VEVENT

END:VCALENDAR
