BEGIN:VCALENDAR
VERSION:2.0
PRODID:-//ChamberMaster//Event Calendar 2.0//EN
METHOD:PUBLISH
X-PUBLISHED-TTL:P3D
REFRESH-INTERVAL:P3D
CALSCALE:GREGORIAN
BEGIN:VEVENT
DTSTART:20171114T150000Z
DTEND:20171114T190000Z
X-MICROSOFT-CDO-ALLDAYEVENT:FALSE
SUMMARY:Concierge College
DESCRIPTION:The Concierge College is a FREE Seminar for hospitality and retail employees who work directly with the public or who train front-line staff.
X-ALT-DESC;FMTTYPE=text/html:The Concierge College is a FREE Seminar for hospitality and retail employees who work directly with the public or who train front-line staff.&nbsp\;
LOCATION:Mooney Grove Museum 2700 S Mooney Blvd
UID:e.2225.1261
SEQUENCE:3
DTSTAMP:20260422T195801Z
URL:https://business.portervillechamber.org/events/details/concierge-college-1261
END:VEVENT

END:VCALENDAR
