BEGIN:VCALENDAR
VERSION:2.0
PRODID:-//ChamberMaster//Event Calendar 2.0//EN
METHOD:PUBLISH
X-PUBLISHED-TTL:P3D
REFRESH-INTERVAL:P3D
CALSCALE:GREGORIAN
BEGIN:VEVENT
DTSTART:20200215T030000Z
DTEND:20200215T050000Z
X-MICROSOFT-CDO-ALLDAYEVENT:FALSE
SUMMARY:Couple's Paint & Wine Night
DESCRIPTION:Imagine Community Arts Center is hosting a Couple's Paint & Wine Night at their studio!
X-ALT-DESC;FMTTYPE=text/html:Imagine Community Arts Center is hosting a Couple&#39\;s Paint &amp\; Wine Night at their studio!
LOCATION:Imagine Community Arts Center 93 N. Main Street Suite D Porterville\, CA 93257
UID:e.2225.2136
SEQUENCE:3
DTSTAMP:20260420T204257Z
URL:https://business.portervillechamber.org/events/details/couple-s-paint-wine-night-2136
END:VEVENT

END:VCALENDAR
