BEGIN:VCALENDAR
VERSION:2.0
PRODID:-//ChamberMaster//Event Calendar 2.0//EN
METHOD:PUBLISH
X-PUBLISHED-TTL:P3D
REFRESH-INTERVAL:P3D
CALSCALE:GREGORIAN
BEGIN:VEVENT
DTSTART;VALUE=DATE:20191220
DTEND;VALUE=DATE:20191221
TRANSP:TRANSPARENT
X-MICROSOFT-CDO-ALLDAYEVENT:TRUE
SUMMARY:Craft Extravaganza
DESCRIPTION:The Porterville Wellness Center is hosting the 2019 Craft Extravaganza! Visit and craft Christmas Wreaths\, Snow Globes\, Clothesline Picture Frames\, Ornaments\, and more.
X-ALT-DESC;FMTTYPE=text/html:<span id="docs-internal-guid-a55cc4e7-7fff-c509-7821-78c60deacd26"><span style="font-size: 11pt\; font-family: Arial\; color: rgb(0\, 0\, 0)\; background-color: transparent\; font-variant-numeric: normal\; font-variant-east-asian: normal\; vertical-align: baseline\; white-space: pre-wrap\;">The Porterville Wellness Center is hosting the 2019 Craft Extravaganza! Visit and craft Christmas Wreaths\, Snow Globes\, Clothesline Picture Frames\, Ornaments\, and more.</span></span>
LOCATION:333 W. Henderson Avenue
UID:e.2225.2102
SEQUENCE:3
DTSTAMP:20260420T235334Z
URL:https://business.portervillechamber.org/events/details/craft-extravaganza-2102
END:VEVENT

END:VCALENDAR
