BEGIN:VCALENDAR
VERSION:2.0
PRODID:-//ChamberMaster//Event Calendar 2.0//EN
METHOD:PUBLISH
X-PUBLISHED-TTL:P3D
REFRESH-INTERVAL:P3D
CALSCALE:GREGORIAN
BEGIN:VEVENT
DTSTART;VALUE=DATE:20181102
DTEND;VALUE=DATE:20181103
TRANSP:TRANSPARENT
X-MICROSOFT-CDO-ALLDAYEVENT:TRUE
SUMMARY:Dia del Los Muertos - Day of the Dead
DESCRIPTION:The Comison Honorifica Mexicana Americana presents the Dia de los Muertos - Day of the Dead. It altars in Memory of the Dearly Departed.  We will have food a tamale dinner\, sweet bread and champurrado meal\, aztec dancers and a silent auction.
X-ALT-DESC;FMTTYPE=text/html:The Comison Honorifica Mexicana Americana presents the Dia de los Muertos - Day of the Dead. It altars in Memory of the Dearly Departed.&nbsp\; We will have food a tamale dinner\, sweet bread and champurrado meal\, aztec dancers and a silent auction.&nbsp\;
LOCATION:CHMA Community & Conference Center 466 East Putnam Ave
UID:e.2225.1452
SEQUENCE:3
DTSTAMP:20260422T003615Z
URL:https://business.portervillechamber.org/events/details/dia-del-los-muertos-day-of-the-dead-1452
END:VEVENT

END:VCALENDAR
