BEGIN:VCALENDAR
VERSION:2.0
PRODID:-//ChamberMaster//Event Calendar 2.0//EN
METHOD:PUBLISH
X-PUBLISHED-TTL:P3D
REFRESH-INTERVAL:P3D
CALSCALE:GREGORIAN
BEGIN:VEVENT
DTSTART;VALUE=DATE:20190413
DTEND;VALUE=DATE:20190414
TRANSP:TRANSPARENT
X-MICROSOFT-CDO-ALLDAYEVENT:TRUE
SUMMARY:Dinosaur Egg hunt
DESCRIPTION:$2 per child \n\nAges 0-10
X-ALT-DESC;FMTTYPE=text/html:$2 per child&nbsp\;<br />\nAges 0-10&nbsp\;
LOCATION:Porterville Historical Museum 257 N. D Street
UID:e.2225.1926
SEQUENCE:3
DTSTAMP:20260421T140644Z
URL:https://business.portervillechamber.org/events/details/dinosaur-egg-hunt-1926
END:VEVENT

END:VCALENDAR
